BEGIN:VCALENDAR
VERSION:2.0
PRODID:-//Société Francophone de Maillardville - ECPv6.15.11//NONSGML v1.0//EN
CALSCALE:GREGORIAN
METHOD:PUBLISH
X-ORIGINAL-URL:https://maillardville.com
X-WR-CALDESC:Events for Société Francophone de Maillardville
REFRESH-INTERVAL;VALUE=DURATION:PT1H
X-Robots-Tag:noindex
X-PUBLISHED-TTL:PT1H
BEGIN:VTIMEZONE
TZID:America/Vancouver
BEGIN:DAYLIGHT
TZOFFSETFROM:-0800
TZOFFSETTO:-0700
TZNAME:PDT
DTSTART:20240310T100000
END:DAYLIGHT
BEGIN:STANDARD
TZOFFSETFROM:-0700
TZOFFSETTO:-0800
TZNAME:PST
DTSTART:20241103T090000
END:STANDARD
BEGIN:DAYLIGHT
TZOFFSETFROM:-0800
TZOFFSETTO:-0700
TZNAME:PDT
DTSTART:20250309T100000
END:DAYLIGHT
BEGIN:STANDARD
TZOFFSETFROM:-0700
TZOFFSETTO:-0800
TZNAME:PST
DTSTART:20251102T090000
END:STANDARD
BEGIN:DAYLIGHT
TZOFFSETFROM:-0800
TZOFFSETTO:-0700
TZNAME:PDT
DTSTART:20260308T100000
END:DAYLIGHT
BEGIN:STANDARD
TZOFFSETFROM:-0700
TZOFFSETTO:-0800
TZNAME:PST
DTSTART:20261101T090000
END:STANDARD
END:VTIMEZONE
BEGIN:VEVENT
DTSTART;TZID=America/Vancouver:20250619T163000
DTEND;TZID=America/Vancouver:20250619T180000
DTSTAMP:20260424T062918
CREATED:20250505T185859Z
LAST-MODIFIED:20250505T185859Z
UID:6450-1750350600-1750356000@maillardville.com
SUMMARY:Service Canada Workshop - June 2025
DESCRIPTION:This online workshop will be offered in partnership with Service Canada. During the session\, representatives from Service Canada will be on hand to share helpful resources and provide practical information in French about the Canadian Dental Care Plan. \nDate & Time: Thursday\, June 19\, 2025 (4:30 to 6 PM) \nLocation: Online (Zoom). \nNote: The meeting invite link will be shared to participants who have registered a few days before the workshop. \nTo register\, please fill in the form below: \nPlease enable JavaScript in your browser to complete this form.Nom / Name *FirstLastEmail *Numéro de téléphone / Phone number Nombre d'adultes /  Number of adults *Envoyer
URL:https://maillardville.com/event/service-canada-workshop-june-2025/
LOCATION:British Columbia
ATTACH;FMTTYPE=image/png:https://maillardville.com/wp-content/uploads/2025/05/Screenshot-97.png
END:VEVENT
END:VCALENDAR