BEGIN:VCALENDAR
VERSION:2.0
PRODID:-//Société Francophone de Maillardville - ECPv6.15.11//NONSGML v1.0//EN
CALSCALE:GREGORIAN
METHOD:PUBLISH
X-WR-CALNAME:Société Francophone de Maillardville
X-ORIGINAL-URL:https://maillardville.com
X-WR-CALDESC:Events for Société Francophone de Maillardville
REFRESH-INTERVAL;VALUE=DURATION:PT1H
X-Robots-Tag:noindex
X-PUBLISHED-TTL:PT1H
BEGIN:VTIMEZONE
TZID:America/Vancouver
BEGIN:DAYLIGHT
TZOFFSETFROM:-0800
TZOFFSETTO:-0700
TZNAME:PDT
DTSTART:20240310T100000
END:DAYLIGHT
BEGIN:STANDARD
TZOFFSETFROM:-0700
TZOFFSETTO:-0800
TZNAME:PST
DTSTART:20241103T090000
END:STANDARD
BEGIN:DAYLIGHT
TZOFFSETFROM:-0800
TZOFFSETTO:-0700
TZNAME:PDT
DTSTART:20250309T100000
END:DAYLIGHT
BEGIN:STANDARD
TZOFFSETFROM:-0700
TZOFFSETTO:-0800
TZNAME:PST
DTSTART:20251102T090000
END:STANDARD
BEGIN:DAYLIGHT
TZOFFSETFROM:-0800
TZOFFSETTO:-0700
TZNAME:PDT
DTSTART:20260308T100000
END:DAYLIGHT
BEGIN:STANDARD
TZOFFSETFROM:-0700
TZOFFSETTO:-0800
TZNAME:PST
DTSTART:20261101T090000
END:STANDARD
END:VTIMEZONE
BEGIN:VEVENT
DTSTART;TZID=America/Vancouver:20250926T170000
DTEND;TZID=America/Vancouver:20250926T190000
DTSTAMP:20260424T021942
CREATED:20250905T060712Z
LAST-MODIFIED:20250905T060712Z
UID:6750-1758906000-1758913200@maillardville.com
SUMMARY:5-7 Franco: Come celebrate the 116th anniversary of Maillardville
DESCRIPTION:Come celebrate with us the 116th Anniversary of Maillardville!\nWe invite francophones\, francophiles\, and everyone interested in French culture to join us for a festive 5 à 7. \nDate: Friday\, September 26\, 2025\nTime: 5 PM to 7 PM\nLocation: Société francophone de Maillardville\n9338 Brunette Avenue\, Unit 2000\, Coquitlam \nRSVP: Register here Please enable JavaScript in your browser to complete this form.Name *FirstLastEmail *Numéro de téléphone / Phone number Nombre de Participants  *Envoyer   \nWe can’t wait to see you and celebrate Maillardville’s anniversary together! \nFrom the entire team at Société francophone de Maillardville
URL:https://maillardville.com/event/5-7-franco-come-celebrate-the-116th-anniversary-of-maillardville/
LOCATION:British Columbia
ATTACH;FMTTYPE=image/jpeg:https://maillardville.com/wp-content/uploads/2025/09/9532040f-9a9d-4da6-9f06-720832d139c0.jpg
END:VEVENT
END:VCALENDAR