BEGIN:VCALENDAR
VERSION:2.0
PRODID:-//Société Francophone de Maillardville - ECPv6.15.11//NONSGML v1.0//EN
CALSCALE:GREGORIAN
METHOD:PUBLISH
X-WR-CALNAME:Société Francophone de Maillardville
X-ORIGINAL-URL:https://maillardville.com
X-WR-CALDESC:Events for Société Francophone de Maillardville
REFRESH-INTERVAL;VALUE=DURATION:PT1H
X-Robots-Tag:noindex
X-PUBLISHED-TTL:PT1H
BEGIN:VTIMEZONE
TZID:America/Vancouver
BEGIN:DAYLIGHT
TZOFFSETFROM:-0800
TZOFFSETTO:-0700
TZNAME:PDT
DTSTART:20240310T100000
END:DAYLIGHT
BEGIN:STANDARD
TZOFFSETFROM:-0700
TZOFFSETTO:-0800
TZNAME:PST
DTSTART:20241103T090000
END:STANDARD
BEGIN:DAYLIGHT
TZOFFSETFROM:-0800
TZOFFSETTO:-0700
TZNAME:PDT
DTSTART:20250309T100000
END:DAYLIGHT
BEGIN:STANDARD
TZOFFSETFROM:-0700
TZOFFSETTO:-0800
TZNAME:PST
DTSTART:20251102T090000
END:STANDARD
BEGIN:DAYLIGHT
TZOFFSETFROM:-0800
TZOFFSETTO:-0700
TZNAME:PDT
DTSTART:20260308T100000
END:DAYLIGHT
BEGIN:STANDARD
TZOFFSETFROM:-0700
TZOFFSETTO:-0800
TZNAME:PST
DTSTART:20261101T090000
END:STANDARD
BEGIN:DAYLIGHT
TZOFFSETFROM:-0800
TZOFFSETTO:-0700
TZNAME:PDT
DTSTART:20270314T100000
END:DAYLIGHT
BEGIN:STANDARD
TZOFFSETFROM:-0700
TZOFFSETTO:-0800
TZNAME:PST
DTSTART:20271107T090000
END:STANDARD
END:VTIMEZONE
BEGIN:VEVENT
DTSTART;TZID=America/Vancouver:20251221T130000
DTEND;TZID=America/Vancouver:20251221T150000
DTSTAMP:20260420T175450
CREATED:20251001T011039Z
LAST-MODIFIED:20251102T085108Z
UID:6854-1766322000-1766329200@maillardville.com
SUMMARY:HIGH TEA EVENT FOR 50+
DESCRIPTION:TEA EVENT / THÉ DE L’AMITIÉ POUR LES 50+ \nThe Société francophone de Maillardville invites you to a friendly Christmas themed High Tea Event. \n  \n🫖 Date: Sunday\, December  21st\, 2025 \n📍 Location: Société francophone de Maillardville \n938 Brunette Avenue\, Unit 200\, Coquitlam \n🕐 Time: 1:00 p.m. to 3:00 p.m. \n☕ Limited to 15 participants. Reserve your spot quickly. \n  \nJoin us for an afternoon of joy\, friendship\, and celebration. \nWe look forward to celebrating the International Day of Older Persons with you. \n👉 Please register here: Please enable JavaScript in your browser to complete this form.Name *FirstLastEmail *Numéro de téléphone / Phone number Nombre de Participants  *Envoyer
URL:https://maillardville.com/event/christmas-tea/
LOCATION:Société francophone de Maillardville\, 938 Brunette Avenue\, Suite 200\, Coquitlam\, British Columbia\, V3K 1C9
ATTACH;FMTTYPE=image/png:https://maillardville.com/wp-content/uploads/2025/10/Untitled-design-2.png
END:VEVENT
BEGIN:VEVENT
DTSTART;TZID=America/Vancouver:20260123T180000
DTEND;TZID=America/Vancouver:20260123T210000
DTSTAMP:20260420T175450
CREATED:20260114T051811Z
LAST-MODIFIED:20260114T051811Z
UID:8012-1769191200-1769202000@maillardville.com
SUMMARY:Franco Social Evening
DESCRIPTION:
URL:https://maillardville.com/event/franco-social-evening/
LOCATION:BC
ATTACH;FMTTYPE=image/png:https://maillardville.com/wp-content/uploads/2026/01/Untitled-design-copy.png
END:VEVENT
BEGIN:VEVENT
DTSTART;TZID=America/Vancouver:20260215T140000
DTEND;TZID=America/Vancouver:20260215T160000
DTSTAMP:20260420T175450
CREATED:20260114T052749Z
LAST-MODIFIED:20260205T073330Z
UID:8015-1771164000-1771171200@maillardville.com
SUMMARY:Valentine's Tea for 50+
DESCRIPTION:
URL:https://maillardville.com/event/franco-social-evening-2/
LOCATION:Société francophone de Maillardville\, 938 Brunette Avenue\, Suite 200\, Coquitlam\, British Columbia\, V3K 1C9
ATTACH;FMTTYPE=image/jpeg:https://maillardville.com/wp-content/uploads/2026/01/Untitled-design-1.jpg
END:VEVENT
BEGIN:VEVENT
DTSTART;TZID=America/Vancouver:20260220T180000
DTEND;TZID=America/Vancouver:20260220T210000
DTSTAMP:20260420T175450
CREATED:20260205T072815Z
LAST-MODIFIED:20260205T073244Z
UID:8129-1771610400-1771621200@maillardville.com
SUMMARY:Soirée Franco 6-8\, 20 Février
DESCRIPTION:
URL:https://maillardville.com/event/soiree-franco-6-8-20-fevrier/
LOCATION:Société francophone de Maillardville\, 938 Brunette Avenue\, Suite 200\, Coquitlam\, British Columbia\, V3K 1C9
ATTACH;FMTTYPE=image/png:https://maillardville.com/wp-content/uploads/2026/02/Untitled-design-1.png
END:VEVENT
BEGIN:VEVENT
DTSTART;TZID=America/Vancouver:20260305T190000
DTEND;TZID=America/Vancouver:20260305T210000
DTSTAMP:20260420T175450
CREATED:20260205T073102Z
LAST-MODIFIED:20260205T073102Z
UID:8132-1772737200-1772744400@maillardville.com
SUMMARY:Printemps de la Francophonie - Free Movie
DESCRIPTION:
URL:https://maillardville.com/event/printemps-de-la-francophonie-free-movie/
LOCATION:Cineplex Coquitlam\, 170 Schoolhouse Street\, Coquitlam\, BC\, V3K 6V6\, Canada
ATTACH;FMTTYPE=image/png:https://maillardville.com/wp-content/uploads/2026/02/Activité-pre-festival-Pre-Festival-activity.png
END:VEVENT
END:VCALENDAR