BEGIN:VCALENDAR
VERSION:2.0
PRODID:-//Société Francophone de Maillardville - ECPv6.15.11//NONSGML v1.0//EN
CALSCALE:GREGORIAN
METHOD:PUBLISH
X-WR-CALNAME:Société Francophone de Maillardville
X-ORIGINAL-URL:https://maillardville.com
X-WR-CALDESC:Events for Société Francophone de Maillardville
REFRESH-INTERVAL;VALUE=DURATION:PT1H
X-Robots-Tag:noindex
X-PUBLISHED-TTL:PT1H
BEGIN:VTIMEZONE
TZID:America/Vancouver
BEGIN:DAYLIGHT
TZOFFSETFROM:-0800
TZOFFSETTO:-0700
TZNAME:PDT
DTSTART:20210314T100000
END:DAYLIGHT
BEGIN:STANDARD
TZOFFSETFROM:-0700
TZOFFSETTO:-0800
TZNAME:PST
DTSTART:20211107T090000
END:STANDARD
BEGIN:DAYLIGHT
TZOFFSETFROM:-0800
TZOFFSETTO:-0700
TZNAME:PDT
DTSTART:20220313T100000
END:DAYLIGHT
BEGIN:STANDARD
TZOFFSETFROM:-0700
TZOFFSETTO:-0800
TZNAME:PST
DTSTART:20221106T090000
END:STANDARD
BEGIN:DAYLIGHT
TZOFFSETFROM:-0800
TZOFFSETTO:-0700
TZNAME:PDT
DTSTART:20230312T100000
END:DAYLIGHT
BEGIN:STANDARD
TZOFFSETFROM:-0700
TZOFFSETTO:-0800
TZNAME:PST
DTSTART:20231105T090000
END:STANDARD
BEGIN:DAYLIGHT
TZOFFSETFROM:-0800
TZOFFSETTO:-0700
TZNAME:PDT
DTSTART:20240310T100000
END:DAYLIGHT
BEGIN:STANDARD
TZOFFSETFROM:-0700
TZOFFSETTO:-0800
TZNAME:PST
DTSTART:20241103T090000
END:STANDARD
END:VTIMEZONE
BEGIN:VEVENT
DTSTART;TZID=America/Vancouver:20230321T190000
DTEND;TZID=America/Vancouver:20230321T213000
DTSTAMP:20260420T214344
CREATED:20230316T192328Z
LAST-MODIFIED:20230316T192546Z
UID:4777-1679425200-1679434200@maillardville.com
SUMMARY:PDLF 2023 - Moment cinéma: La Cordonnière
DESCRIPTION:This movie is presented with English subtitles. \nDETAILS \n\nMovie : “La Cordonnière” of François Bouvier (Quebec)\nWhen : Tuesday March 21 at 7:00 pm (doors open at 6:30 pm)\nWhere : Cinéma Cinéplex Coquitlam\nPresented with English subtitles\n\nSYNOPSIS \nLA CORDONNIÈRE tells the story of Victoire Du Saut\, founder of the shoemaking company that made the Dufresnes’ fortune\, better known for the castle that bears their name in Hochelaga-Maisonneuve. Although the entrepreneurial spirit and professional career of this visionary are admirable\, it is above all her love affair that forms the heart of this melodrama where an impossible love\, a sulphurous love triangle and a shocking family secret are intertwined. \nPresented in collaboration with Visions Ouest Production Festival du Bois. \nFree tickets available here
URL:https://maillardville.com/event/pdlf-2023-moment-cinema-la-cordonniere/
LOCATION:Cineplex Coquitlam\, 170 Schoolhouse Street\, Coquitlam\, BC\, V3K 6V6\, Canada
ATTACH;FMTTYPE=image/png:https://maillardville.com/wp-content/uploads/2023/03/21_PDLF_CORDONNIERE.png
END:VEVENT
BEGIN:VEVENT
DTSTART;TZID=America/Vancouver:20230318T193000
DTEND;TZID=America/Vancouver:20230318T210000
DTSTAMP:20260420T214344
CREATED:20230214T205312Z
LAST-MODIFIED:20230215T002506Z
UID:4651-1679167800-1679173200@maillardville.com
SUMMARY:Pre-Festival: Alexis Normand - Assez French
DESCRIPTION:The Société francophone de Maillardville and the Simon Fraser University Bureau des affaires francophones et francophiles present as part of SFU’s Printemps de la francophonie: Alexis Normand – Assez French in concert. \nBy her open generosity\, Alexis Normand shines a light on the points of tension faced by many francophones in minority-language situations. The Fransaskoise offers a solo concert that is carried by elegant guitar playing\, finely chiseled lyrics and nuanced interpretations. Through her songs and her documentary short\, French Enough\, produced by the National Film Board of Canada\, she recounts her personal identity journey while addressing her insecurities around language and belonging. \nAfter intermission\, she mediates a conversation and Q&A with audience members about language\, identity and place. The rich exchanges that ensue allow for greater understanding of the diversity and plurality of francophone identities. \nFree Event – Tickets Here
URL:https://maillardville.com/event/pre-festival-alexis-normand-assez-french/
LOCATION:Place des Arts\, 1120 Brunette Ave\, Coquitlam\, BC\, V3K 1G2\, Canada
ATTACH;FMTTYPE=image/jpeg:https://maillardville.com/wp-content/uploads/2023/02/Alexis-Assez-French-FB-01.jpg
END:VEVENT
BEGIN:VEVENT
DTSTART;TZID=America/Vancouver:20230221T133000
DTEND;TZID=America/Vancouver:20230221T150000
DTSTAMP:20260420T214344
CREATED:20230208T203821Z
LAST-MODIFIED:20230208T203821Z
UID:4642-1676986200-1676991600@maillardville.com
SUMMARY:LeFLOFranco Live at École des Pionniers
DESCRIPTION:We are very excited to invite French-Canadian hip-hop artist LeFLOFranco for a FREE concert at l’École des Pionniers! On February 21st from 1:45 PM – 3:00 PM\, he will be performing his music as part of his #tournéedivine tour in support of his new album\, Trajectoire divine. \nReservations are required to attend – reserve your ticket below.
URL:https://maillardville.com/event/leflofranco-live-at-ecole-des-pionniers/
LOCATION:École des Pionniers-de-Maillardville\, 1618 Patricia Ave\, Port Coquitlam\, BC V3B 4A8\, Port Coquitlam\, British Columbia\, V3B 4A8\, Canada
ATTACH;FMTTYPE=image/png:https://maillardville.com/wp-content/uploads/2023/02/LeFLOFranco-Affiche-1152-×-648-px-1.png
END:VEVENT
BEGIN:VEVENT
DTSTART;TZID=America/Vancouver:20230127T180000
DTEND;TZID=America/Vancouver:20230127T200000
DTSTAMP:20260420T214344
CREATED:20230116T182626Z
LAST-MODIFIED:20230124T222618Z
UID:4572-1674842400-1674849600@maillardville.com
SUMMARY:The Artistic Happy Hour - Marie-Claude Dubé\, Fréderic Joyal
DESCRIPTION:Société francophone de Maillardville presents: The Artistic Happy Hour! \nDate: Friday\, January 27th\, 2023 \nTime: 6:00 PM – 8:00 PM \nAddress: 938 Brunette Ave\, Coquitlam \nJoin us and meet Marie-Claude Dubé\, an author and children’s educator within the local francophone community. She will be presenting her book Fibromonster Versus My Mom\, which is a children’s book created to teach readers young and old the effects of Fibromyalgia. \nThe book’s illustrator\, Fréderic Joyal\, will also be there to present the book and exhibit some of his artwork. \nWe’ll also have some food and drinks to share! \nFree event! RSVP recommended – sign up below. \nWe can’t wait to see you there!
URL:https://maillardville.com/event/the-artistic-happy-hour-marie-claude-dube-frederic-joyal/
LOCATION:Société francophone de Maillardville\, 938 Brunette Avenue\, Suite 200\, Coquitlam\, British Columbia\, V3K 1C9
ATTACH;FMTTYPE=image/png:https://maillardville.com/wp-content/uploads/2023/01/27-jan-le-6-a-8-des-artistes-FB-cover-1.png
END:VEVENT
BEGIN:VEVENT
DTSTART;TZID=America/Vancouver:20221217T113000
DTEND;TZID=America/Vancouver:20221217T170000
DTSTAMP:20260420T214344
CREATED:20220826T190301Z
LAST-MODIFIED:20221125T221043Z
UID:4045-1671276600-1671296400@maillardville.com
SUMMARY:Célébration de Noël\, Hanukkah et Kwanzaa
DESCRIPTION:Bilingual Christmas\, Hanukkah and Kwanzaa \nWhen: Saturday\, December 17th from 1 pm to 3:30 pm \nWhere: Société francophone de Maillardville. \nCome celebrate our Franco-Canadian heritage through\nmany magical activities.\nMusic\, sweet bites\, small gifts and a visit from Father\nChristmas… There will be plenty of fun for all! \n\nCélébration de Noël\, Hanukkah et Kwanzaa le\nQuand: samedi 17 décembre de 1 pm à 3:30 pm\nOù: Société francophone de Maillardville. \nJeunes et moins jeunes\, venez célébrer nos héritages\nfranco-canadiens à travers de nombreuses activités\nmagiques.\nMusique\, bouchées sucrées\, petits cadeaux et visite du\nPère Noël… Il y aura de quoi bien s’amuser tous\nensemble!
URL:https://maillardville.com/event/christmas-party/
ATTACH;FMTTYPE=image/png:https://maillardville.com/wp-content/uploads/2022/08/Celebration-publication-facebook.png
END:VEVENT
BEGIN:VEVENT
DTSTART;TZID=America/Vancouver:20221106T110000
DTEND;TZID=America/Vancouver:20221106T143000
DTSTAMP:20260420T214344
CREATED:20221125T203529Z
LAST-MODIFIED:20221125T203529Z
UID:4488-1667732400-1667745000@maillardville.com
SUMMARY:Partageons nos traditions! (storytelling and tasting)
DESCRIPTION:You are invited to come reflect\, discover and taste with us about our traditions and our future as part of National Francophone Immigration Week! \nSunday\, November 6\, 11:00 AM – 2:00 PM\nAt the Société francophone de Maillardville (Brunette Avenue\, Suite 200\, Coquitlam\, BC\, V3K 1C9) \nProgram: \n– Storytelling around cultural traditions and heritages \n– Collective reflection based on the story \n– Tasting of African bites served by Madani’s Kitchen who will share her culinary heritage and creativity! \nA minimum contribution of 5$ will be asked (possibility to pay at the entrance)
URL:https://maillardville.com/event/partageons-nos-traditions-storytelling-and-tasting/
LOCATION:Société francophone de Maillardville\, 938 Brunette Avenue\, Suite 200\, Coquitlam\, British Columbia\, V3K 1C9
ATTACH;FMTTYPE=image/png:https://maillardville.com/wp-content/uploads/2022/10/Partageons-nos-traditions-BANDEAU-400-×-250-px-3.png
END:VEVENT
BEGIN:VEVENT
DTSTART;TZID=America/Vancouver:20221021T100000
DTEND;TZID=America/Vancouver:20221021T140000
DTSTAMP:20260420T214344
CREATED:20221125T202851Z
LAST-MODIFIED:20221125T203004Z
UID:4485-1666346400-1666360800@maillardville.com
SUMMARY:Festival Jeunes de Coeur 2
DESCRIPTION:October 21st : \nMeet at 10:00am in the parking lot of Notre Dame de Fatima. \nA bus will take us to Lake Lafarge where we will participate in a walk organized by RésoSanté.  \nThe walk will end with an healthy meal at Pasta Polo.  \nThe bus will bring us back to the church parking lot around 1:45 pm.
URL:https://maillardville.com/event/festival-jeunes-de-coeur-2/
ATTACH;FMTTYPE=image/png:https://maillardville.com/wp-content/uploads/2022/09/SITE-BANDEAU-3.png
END:VEVENT
BEGIN:VEVENT
DTSTART;TZID=America/Vancouver:20221001T080000
DTEND;TZID=America/Vancouver:20221001T170000
DTSTAMP:20260420T214344
CREATED:20220826T182334Z
LAST-MODIFIED:20221125T203335Z
UID:4037-1664611200-1664643600@maillardville.com
SUMMARY:Festival Jeunes de Coeur
DESCRIPTION:Jeunes de Coeur festival is back this year thanks to Carrefour 50+! \nOctober 1st : \nOuting to the Glass House Winery: tour\, tasting\nMeal at the restaurant offered\nReturn to Maillardville by 3:00pm
URL:https://maillardville.com/event/festival-jeunes-de-coeur/
ATTACH;FMTTYPE=image/png:https://maillardville.com/wp-content/uploads/2022/08/SITE-BANDEAU-JDC.png
END:VEVENT
BEGIN:VEVENT
DTSTART;TZID=America/Vancouver:20220925T120000
DTEND;TZID=America/Vancouver:20220925T150000
DTSTAMP:20260420T214344
CREATED:20220826T175648Z
LAST-MODIFIED:20220908T204045Z
UID:4035-1664107200-1664118000@maillardville.com
SUMMARY:Maillardville's anniversary!
DESCRIPTION:Maillardville is celebrating its 113th birthday! \nYou are invited to come celebrate with us! \n\nSunday September 25th\, 10:00am\nBurns Park\nCoffee and croissants offered\n\nAn event made possible by the generous contribution of Team Leo. \nRegistration is recommended HERE : \n \n  \nIn case of rain\, meet in the basement of Our Lady of Fatima Church.
URL:https://maillardville.com/event/maillardvilles-anniversary/
ATTACH;FMTTYPE=image/jpeg:https://maillardville.com/wp-content/uploads/2022/08/Proposition-2-invitation.jpg
END:VEVENT
BEGIN:VEVENT
DTSTART;TZID=America/Vancouver:20220624T170000
DTEND;TZID=America/Vancouver:20220724T200000
DTSTAMP:20260420T214344
CREATED:20220526T194632Z
LAST-MODIFIED:20220526T195259Z
UID:3572-1656090000-1658692800@maillardville.com
SUMMARY:Saint Jean Baptiste Day
DESCRIPTION:Come celebrate Saint-Jean-Baptiste Day in person with us! \nWe invite you to celebrate the French language and its richness in a friendly moment with music at SFM! \nBarbecue and family games on the program. \nFree entry for the whole family\, RSVP : https://lepointdevente.com/billets/97p220624001
URL:https://maillardville.com/event/saint-jean-baptiste-day/
LOCATION:Société francophone de Maillardville\, 938 Brunette Avenue\, Suite 200\, Coquitlam\, British Columbia\, V3K 1C9
ATTACH;FMTTYPE=image/png:https://maillardville.com/wp-content/uploads/2022/05/BANDEAU-St-Jean.png
END:VEVENT
BEGIN:VEVENT
DTSTART;TZID=America/Vancouver:20220513T180000
DTEND;TZID=America/Vancouver:20220513T200000
DTSTAMP:20260420T214344
CREATED:20220222T182110Z
LAST-MODIFIED:20220426T233604Z
UID:3098-1652464800-1652472000@maillardville.com
SUMMARY:The artistic happy hour – Harmonie Garry
DESCRIPTION:Click HERE.
URL:https://maillardville.com/event/the-artistic-happy-hour-harmonie-garry/
LOCATION:Société francophone de Maillardville\, 938 Brunette Avenue\, Suite 200\, Coquitlam\, British Columbia\, V3K 1C9
ATTACH;FMTTYPE=image/png:https://maillardville.com/wp-content/uploads/2022/04/SITE-BANDEAU-2.png
END:VEVENT
BEGIN:VEVENT
DTSTART;VALUE=DATE:20220401
DTEND;VALUE=DATE:20220404
DTSTAMP:20260420T214344
CREATED:20220203T191027Z
LAST-MODIFIED:20220303T000407Z
UID:2994-1648771200-1649030399@maillardville.com
SUMMARY:Festival du Bois
DESCRIPTION:Join us at Mackin Park from April 1st to 3rd to enjoy folk\, roots\, world and Québécois music from Canada and beyond. As always\, there will be a wide variety of engaging entertainment especially for kids and families\, workshops\, fabulous food\, a market area and much more! \n\nTHE LINE UP IS ONLINE \n\nBUY YOUR TICKETS NOW
URL:https://maillardville.com/event/festival-du-bois/
LOCATION:Mackin Park\, Brunette Avenue\, Coquitlam\, BC\, V3K 1E7\, Canada
ATTACH;FMTTYPE=image/jpeg:https://maillardville.com/wp-content/uploads/2022/03/SFM-FdB-Button-400X250.jpg
END:VEVENT
BEGIN:VEVENT
DTSTART;TZID=America/Vancouver:20220326T193000
DTEND;TZID=America/Vancouver:20220326T210000
DTSTAMP:20260420T214344
CREATED:20220303T001728Z
LAST-MODIFIED:20220303T002503Z
UID:3144-1648323000-1648328400@maillardville.com
SUMMARY:Pre-Festival Events : Christine Tassan et les Imposteures in concert – Saturday 26 mars\, 7:30 pm
DESCRIPTION:The Festival du Bois is approaching! For the occasion\, Société Francophone de Maillardville invites you to celebrate the arrival of the festival with pre-events : Christine Tassan et les Imposteures en concert-  Saturday 26 mars\, 7:30 pm \nChristine Tassan et les Imposteures brings together some of the best works by Django Reinhardt\, Félix Leclerc and American swing composers. With virtuosity\, daring and humour\, the string band draws inspiration from one artist’s poetry and the other’s swing. They revisit hit songs created by George Gershwin\, Louis Prima or Charlie Chaplin and blend them with Django’s melodies. \nFollow this link to learn more! \n \n 
URL:https://maillardville.com/event/pre-festival-events-christine-tassan-et-les-imposteures-in-concert-saturday-26-mars-730-pm/
ATTACH;FMTTYPE=image/png:https://maillardville.com/wp-content/uploads/2022/03/Christine-Tassan-et-les-Imposteures-400-×-250-px-Bandeau.png
END:VEVENT
BEGIN:VEVENT
DTSTART;TZID=America/Vancouver:20220308T180000
DTEND;TZID=America/Vancouver:20220308T200000
DTSTAMP:20260420T214344
CREATED:20220222T175937Z
LAST-MODIFIED:20220222T182537Z
UID:3094-1646762400-1646769600@maillardville.com
SUMMARY:Regarder Échanger Exprimer – International Women’s Rights Day
DESCRIPTION:Click HERE.
URL:https://maillardville.com/event/regarder-echanger-exprimer-international-womens-rights-day/
LOCATION:Société francophone de Maillardville\, 938 Brunette Avenue\, Suite 200\, Coquitlam\, British Columbia\, V3K 1C9
ATTACH;FMTTYPE=image/png:https://maillardville.com/wp-content/uploads/2022/02/8-MARS-BANDEAU-400-×-250-px.png
END:VEVENT
BEGIN:VEVENT
DTSTART;TZID=America/Vancouver:20220227T130000
DTEND;TZID=America/Vancouver:20220227T160000
DTSTAMP:20260420T214344
CREATED:20211223T005611Z
LAST-MODIFIED:20220203T203357Z
UID:2671-1645966800-1645977600@maillardville.com
SUMMARY:Discover West African food fusion
DESCRIPTION:Discover West African food fusion! \nAs part of Black History Month\, the Société francophone de Maillardville invites Rokia Kone\, owner of Madani’s Kitchen\, to introduce you to the taste of West African fusion cuisine. For the greatest pleasure of your taste buds\, Rokia Kone and chef Ansou Sagna will prepare delicious bites and beverages from Senegal and Mali. \nFree event – RSVP required\nThe capacity will be limited to 25 people.\nCOVID19 protocol in place
URL:https://maillardville.com/event/test-event-number-two/
LOCATION:Société francophone de Maillardville\, 938 Brunette Avenue\, Suite 200\, Coquitlam\, British Columbia\, V3K 1C9
ATTACH;FMTTYPE=image/png:https://maillardville.com/wp-content/uploads/2022/02/SITE-BANDEAU-6.png
END:VEVENT
BEGIN:VEVENT
DTSTART;TZID=America/Vancouver:20220212T193000
DTEND;TZID=America/Vancouver:20220212T213000
DTSTAMP:20260420T214344
CREATED:20211223T005301Z
LAST-MODIFIED:20220203T184407Z
UID:2667-1644694200-1644701400@maillardville.com
SUMMARY:L'Art en voyage - a musical trip around the world!
DESCRIPTION:Come on board for a musical trip around the world! \nSociété francophone de Maillardville offers a special night to sit back\, experience some extraordinary music by Anna Lumière and Finn Manniche\, Celso Machado\, Yoro Noukoussi and Silk Road Music. Marvel at the treasures in our midst! \nSaturday\, February 12\, 7:30pm / in person at Evergreen Cultural Centre in Coquitlam or Online !  \nFREE – RSVP \nMore info and registration: HERE
URL:https://maillardville.com/event/test-event-number-one/
LOCATION:Evergreen Cultural Center\, 1205 Pinetree Way\, Coquitlam\, BC\, V3B 7Y3\, Canada
ATTACH;FMTTYPE=image/jpeg:https://maillardville.com/wp-content/uploads/2022/01/AeV-400X250.jpg
END:VEVENT
END:VCALENDAR