BEGIN:VCALENDAR
VERSION:2.0
PRODID:-//Société Francophone de Maillardville - ECPv6.15.11//NONSGML v1.0//EN
CALSCALE:GREGORIAN
METHOD:PUBLISH
X-WR-CALNAME:Société Francophone de Maillardville
X-ORIGINAL-URL:https://maillardville.com
X-WR-CALDESC:Events for Société Francophone de Maillardville
REFRESH-INTERVAL;VALUE=DURATION:PT1H
X-Robots-Tag:noindex
X-PUBLISHED-TTL:PT1H
BEGIN:VTIMEZONE
TZID:America/Vancouver
BEGIN:DAYLIGHT
TZOFFSETFROM:-0800
TZOFFSETTO:-0700
TZNAME:PDT
DTSTART:20210314T100000
END:DAYLIGHT
BEGIN:STANDARD
TZOFFSETFROM:-0700
TZOFFSETTO:-0800
TZNAME:PST
DTSTART:20211107T090000
END:STANDARD
BEGIN:DAYLIGHT
TZOFFSETFROM:-0800
TZOFFSETTO:-0700
TZNAME:PDT
DTSTART:20220313T100000
END:DAYLIGHT
BEGIN:STANDARD
TZOFFSETFROM:-0700
TZOFFSETTO:-0800
TZNAME:PST
DTSTART:20221106T090000
END:STANDARD
BEGIN:DAYLIGHT
TZOFFSETFROM:-0800
TZOFFSETTO:-0700
TZNAME:PDT
DTSTART:20230312T100000
END:DAYLIGHT
BEGIN:STANDARD
TZOFFSETFROM:-0700
TZOFFSETTO:-0800
TZNAME:PST
DTSTART:20231105T090000
END:STANDARD
END:VTIMEZONE
BEGIN:VEVENT
DTSTART;TZID=America/Vancouver:20220513T180000
DTEND;TZID=America/Vancouver:20220513T200000
DTSTAMP:20260420T231129
CREATED:20220222T182110Z
LAST-MODIFIED:20220426T233604Z
UID:3098-1652464800-1652472000@maillardville.com
SUMMARY:The artistic happy hour – Harmonie Garry
DESCRIPTION:Click HERE.
URL:https://maillardville.com/event/the-artistic-happy-hour-harmonie-garry/
LOCATION:Société francophone de Maillardville\, 938 Brunette Avenue\, Suite 200\, Coquitlam\, British Columbia\, V3K 1C9
ATTACH;FMTTYPE=image/png:https://maillardville.com/wp-content/uploads/2022/04/SITE-BANDEAU-2.png
END:VEVENT
BEGIN:VEVENT
DTSTART;VALUE=DATE:20220401
DTEND;VALUE=DATE:20220404
DTSTAMP:20260420T231129
CREATED:20220203T191027Z
LAST-MODIFIED:20220303T000407Z
UID:2994-1648771200-1649030399@maillardville.com
SUMMARY:Festival du Bois
DESCRIPTION:Join us at Mackin Park from April 1st to 3rd to enjoy folk\, roots\, world and Québécois music from Canada and beyond. As always\, there will be a wide variety of engaging entertainment especially for kids and families\, workshops\, fabulous food\, a market area and much more! \n\nTHE LINE UP IS ONLINE \n\nBUY YOUR TICKETS NOW
URL:https://maillardville.com/event/festival-du-bois/
LOCATION:Mackin Park\, Brunette Avenue\, Coquitlam\, BC\, V3K 1E7\, Canada
ATTACH;FMTTYPE=image/jpeg:https://maillardville.com/wp-content/uploads/2022/03/SFM-FdB-Button-400X250.jpg
END:VEVENT
BEGIN:VEVENT
DTSTART;TZID=America/Vancouver:20220326T193000
DTEND;TZID=America/Vancouver:20220326T210000
DTSTAMP:20260420T231129
CREATED:20220303T001728Z
LAST-MODIFIED:20220303T002503Z
UID:3144-1648323000-1648328400@maillardville.com
SUMMARY:Pre-Festival Events : Christine Tassan et les Imposteures in concert – Saturday 26 mars\, 7:30 pm
DESCRIPTION:The Festival du Bois is approaching! For the occasion\, Société Francophone de Maillardville invites you to celebrate the arrival of the festival with pre-events : Christine Tassan et les Imposteures en concert-  Saturday 26 mars\, 7:30 pm \nChristine Tassan et les Imposteures brings together some of the best works by Django Reinhardt\, Félix Leclerc and American swing composers. With virtuosity\, daring and humour\, the string band draws inspiration from one artist’s poetry and the other’s swing. They revisit hit songs created by George Gershwin\, Louis Prima or Charlie Chaplin and blend them with Django’s melodies. \nFollow this link to learn more! \n \n 
URL:https://maillardville.com/event/pre-festival-events-christine-tassan-et-les-imposteures-in-concert-saturday-26-mars-730-pm/
ATTACH;FMTTYPE=image/png:https://maillardville.com/wp-content/uploads/2022/03/Christine-Tassan-et-les-Imposteures-400-×-250-px-Bandeau.png
END:VEVENT
BEGIN:VEVENT
DTSTART;TZID=America/Vancouver:20220308T180000
DTEND;TZID=America/Vancouver:20220308T200000
DTSTAMP:20260420T231129
CREATED:20220222T175937Z
LAST-MODIFIED:20220222T182537Z
UID:3094-1646762400-1646769600@maillardville.com
SUMMARY:Regarder Échanger Exprimer – International Women’s Rights Day
DESCRIPTION:Click HERE.
URL:https://maillardville.com/event/regarder-echanger-exprimer-international-womens-rights-day/
LOCATION:Société francophone de Maillardville\, 938 Brunette Avenue\, Suite 200\, Coquitlam\, British Columbia\, V3K 1C9
ATTACH;FMTTYPE=image/png:https://maillardville.com/wp-content/uploads/2022/02/8-MARS-BANDEAU-400-×-250-px.png
END:VEVENT
BEGIN:VEVENT
DTSTART;TZID=America/Vancouver:20220227T130000
DTEND;TZID=America/Vancouver:20220227T160000
DTSTAMP:20260420T231129
CREATED:20211223T005611Z
LAST-MODIFIED:20220203T203357Z
UID:2671-1645966800-1645977600@maillardville.com
SUMMARY:Discover West African food fusion
DESCRIPTION:Discover West African food fusion! \nAs part of Black History Month\, the Société francophone de Maillardville invites Rokia Kone\, owner of Madani’s Kitchen\, to introduce you to the taste of West African fusion cuisine. For the greatest pleasure of your taste buds\, Rokia Kone and chef Ansou Sagna will prepare delicious bites and beverages from Senegal and Mali. \nFree event – RSVP required\nThe capacity will be limited to 25 people.\nCOVID19 protocol in place
URL:https://maillardville.com/event/test-event-number-two/
LOCATION:Société francophone de Maillardville\, 938 Brunette Avenue\, Suite 200\, Coquitlam\, British Columbia\, V3K 1C9
ATTACH;FMTTYPE=image/png:https://maillardville.com/wp-content/uploads/2022/02/SITE-BANDEAU-6.png
END:VEVENT
BEGIN:VEVENT
DTSTART;TZID=America/Vancouver:20220212T193000
DTEND;TZID=America/Vancouver:20220212T213000
DTSTAMP:20260420T231129
CREATED:20211223T005301Z
LAST-MODIFIED:20220203T184407Z
UID:2667-1644694200-1644701400@maillardville.com
SUMMARY:L'Art en voyage - a musical trip around the world!
DESCRIPTION:Come on board for a musical trip around the world! \nSociété francophone de Maillardville offers a special night to sit back\, experience some extraordinary music by Anna Lumière and Finn Manniche\, Celso Machado\, Yoro Noukoussi and Silk Road Music. Marvel at the treasures in our midst! \nSaturday\, February 12\, 7:30pm / in person at Evergreen Cultural Centre in Coquitlam or Online !  \nFREE – RSVP \nMore info and registration: HERE
URL:https://maillardville.com/event/test-event-number-one/
LOCATION:Evergreen Cultural Center\, 1205 Pinetree Way\, Coquitlam\, BC\, V3B 7Y3\, Canada
ATTACH;FMTTYPE=image/jpeg:https://maillardville.com/wp-content/uploads/2022/01/AeV-400X250.jpg
END:VEVENT
END:VCALENDAR