BEGIN:VCALENDAR
VERSION:2.0
PRODID:-//Société Francophone de Maillardville - ECPv6.15.11//NONSGML v1.0//EN
CALSCALE:GREGORIAN
METHOD:PUBLISH
X-WR-CALNAME:Société Francophone de Maillardville
X-ORIGINAL-URL:https://maillardville.com
X-WR-CALDESC:Events for Société Francophone de Maillardville
REFRESH-INTERVAL;VALUE=DURATION:PT1H
X-Robots-Tag:noindex
X-PUBLISHED-TTL:PT1H
BEGIN:VTIMEZONE
TZID:America/Vancouver
BEGIN:DAYLIGHT
TZOFFSETFROM:-0800
TZOFFSETTO:-0700
TZNAME:PDT
DTSTART:20240310T100000
END:DAYLIGHT
BEGIN:STANDARD
TZOFFSETFROM:-0700
TZOFFSETTO:-0800
TZNAME:PST
DTSTART:20241103T090000
END:STANDARD
BEGIN:DAYLIGHT
TZOFFSETFROM:-0800
TZOFFSETTO:-0700
TZNAME:PDT
DTSTART:20250309T100000
END:DAYLIGHT
BEGIN:STANDARD
TZOFFSETFROM:-0700
TZOFFSETTO:-0800
TZNAME:PST
DTSTART:20251102T090000
END:STANDARD
BEGIN:DAYLIGHT
TZOFFSETFROM:-0800
TZOFFSETTO:-0700
TZNAME:PDT
DTSTART:20260308T100000
END:DAYLIGHT
BEGIN:STANDARD
TZOFFSETFROM:-0700
TZOFFSETTO:-0800
TZNAME:PST
DTSTART:20261101T090000
END:STANDARD
END:VTIMEZONE
BEGIN:VEVENT
DTSTART;TZID=America/Vancouver:20250521T163000
DTEND;TZID=America/Vancouver:20250521T180000
DTSTAMP:20260424T062846
CREATED:20250505T182223Z
LAST-MODIFIED:20250505T185346Z
UID:6429-1747845000-1747850400@maillardville.com
SUMMARY:Service Canada Workshop - May 2025
DESCRIPTION:This online workshop will be offered in partnership with Service Canada. During the session\, representatives from Service Canada will be on hand to share helpful resources and provide practical information in French about the Work-Sharing program and Employment Insurance. \nDate & Time: Wednesday\, May 21\, 2025 (4:30 to 6 PM) \nLocation: Online (Zoom). \nNote: The meeting invite link will be shared to participants who have registered a few days before the workshop. \nTo register\, please fill in the form below: \nPlease enable JavaScript in your browser to complete this form.Nom / Name *FirstLastEmail *Numéro de téléphone / Phone number Nombre d'adultes /  Number of adults *Envoyer
URL:https://maillardville.com/event/service-canada-workshop/
LOCATION:British Columbia
ATTACH;FMTTYPE=image/png:https://maillardville.com/wp-content/uploads/2025/05/Screenshot-96.png
END:VEVENT
BEGIN:VEVENT
DTSTART;TZID=America/Vancouver:20250522T100000
DTEND;TZID=America/Vancouver:20250527T170000
DTSTAMP:20260424T062846
CREATED:20250522T200725Z
LAST-MODIFIED:20250522T200725Z
UID:6501-1747908000-1748365200@maillardville.com
SUMMARY:Exposition - Maquettes de ponts
DESCRIPTION:Come admire the talent of our young builders! \nSociété francophone de Maillardville is proud to present bridge models created by the Grade 4 and 5 students of École des Pionniers-de-Maillardville. An exhibition that celebrates the creativity\, ingenuity\, and pride of our Francophone youth! \n📍 Location : 938 Brunette Ave #200\, Coquitlam\, BC V3K 1C9📅 Date : From May 22 till May 27\, 2025🕒 Time : During office hours
URL:https://maillardville.com/event/exposition-maquettes-de-ponts/
LOCATION:Société francophone de Maillardville\, 938 Brunette Avenue\, Suite 200\, Coquitlam\, British Columbia\, V3K 1C9
ATTACH;FMTTYPE=image/png:https://maillardville.com/wp-content/uploads/2025/05/Exposition-ponts-edp.png
END:VEVENT
BEGIN:VEVENT
DTSTART;TZID=America/Vancouver:20250523T170000
DTEND;TZID=America/Vancouver:20250523T190000
DTSTAMP:20260424T062846
CREATED:20250508T192458Z
LAST-MODIFIED:20250508T192458Z
UID:6483-1748019600-1748026800@maillardville.com
SUMMARY:5 à 7 franco - Spécial ados
DESCRIPTION:This month\, come meet your young Francophone and Francophile friends for a 5 à 7 Teen Special dedicated to young people aged 12 to 18 and their parents. ! \nMeeting: Friday\, May 23\, 5:00 PM à 7:00 PM \nTheme: Teen Special ! \nLocation: Société francophone de Maillardville\, 938 Brunette Avenue #200\, Coquitlam \nYou can register by filling form below: \nPlease enable JavaScript in your browser to complete this form.Name *FirstLastEmail *Numéro de téléphone / Phone number Nombre d'adolescents (12 à 18 ans) /  Number of adolescents (12 to 18 yrs) *Nombre de parents /  Number of parents *Créneau horaire / Time of attendance *Envoyer  \n 
URL:https://maillardville.com/event/5-a-7-franco-special-ados/
LOCATION:Société francophone de Maillardville\, 938 Brunette Avenue\, Suite 200\, Coquitlam\, British Columbia\, V3K 1C9
ATTACH;FMTTYPE=image/png:https://maillardville.com/wp-content/uploads/2025/05/5-a-7-franco-special-ados-2.png
END:VEVENT
END:VCALENDAR