BEGIN:VCALENDAR
VERSION:2.0
PRODID:-//Société Francophone de Maillardville - ECPv6.15.11//NONSGML v1.0//EN
CALSCALE:GREGORIAN
METHOD:PUBLISH
X-WR-CALNAME:Société Francophone de Maillardville
X-ORIGINAL-URL:https://maillardville.com
X-WR-CALDESC:Events for Société Francophone de Maillardville
REFRESH-INTERVAL;VALUE=DURATION:PT1H
X-Robots-Tag:noindex
X-PUBLISHED-TTL:PT1H
BEGIN:VTIMEZONE
TZID:America/Vancouver
BEGIN:DAYLIGHT
TZOFFSETFROM:-0800
TZOFFSETTO:-0700
TZNAME:PDT
DTSTART:20240310T100000
END:DAYLIGHT
BEGIN:STANDARD
TZOFFSETFROM:-0700
TZOFFSETTO:-0800
TZNAME:PST
DTSTART:20241103T090000
END:STANDARD
BEGIN:DAYLIGHT
TZOFFSETFROM:-0800
TZOFFSETTO:-0700
TZNAME:PDT
DTSTART:20250309T100000
END:DAYLIGHT
BEGIN:STANDARD
TZOFFSETFROM:-0700
TZOFFSETTO:-0800
TZNAME:PST
DTSTART:20251102T090000
END:STANDARD
BEGIN:DAYLIGHT
TZOFFSETFROM:-0800
TZOFFSETTO:-0700
TZNAME:PDT
DTSTART:20260308T100000
END:DAYLIGHT
BEGIN:STANDARD
TZOFFSETFROM:-0700
TZOFFSETTO:-0800
TZNAME:PST
DTSTART:20261101T090000
END:STANDARD
END:VTIMEZONE
BEGIN:VEVENT
DTSTART;TZID=America/Vancouver:20250619T163000
DTEND;TZID=America/Vancouver:20250619T180000
DTSTAMP:20260424T050802
CREATED:20250505T185859Z
LAST-MODIFIED:20250505T185859Z
UID:6450-1750350600-1750356000@maillardville.com
SUMMARY:Service Canada Workshop - June 2025
DESCRIPTION:This online workshop will be offered in partnership with Service Canada. During the session\, representatives from Service Canada will be on hand to share helpful resources and provide practical information in French about the Canadian Dental Care Plan. \nDate & Time: Thursday\, June 19\, 2025 (4:30 to 6 PM) \nLocation: Online (Zoom). \nNote: The meeting invite link will be shared to participants who have registered a few days before the workshop. \nTo register\, please fill in the form below: \nPlease enable JavaScript in your browser to complete this form.Nom / Name *FirstLastEmail *Numéro de téléphone / Phone number Nombre d'adultes /  Number of adults *Envoyer
URL:https://maillardville.com/event/service-canada-workshop-june-2025/
LOCATION:British Columbia
ATTACH;FMTTYPE=image/png:https://maillardville.com/wp-content/uploads/2025/05/Screenshot-97.png
END:VEVENT
BEGIN:VEVENT
DTSTART;TZID=America/Vancouver:20250620T170000
DTEND;TZID=America/Vancouver:20250620T190000
DTSTAMP:20260424T050802
CREATED:20240327T182326Z
LAST-MODIFIED:20250527T232151Z
UID:5583-1750438800-1750446000@maillardville.com
SUMMARY:5 à 7 franco
DESCRIPTION:Join us for friendly exchanges between Francophones and Francophiles every 3rd Friday of the month. On the menu: moments of pleasure\, a glass of wine and small bites. \nNext meeting: Friday\, June 20\, 5:00 PM to 7:00 PM \nTheme: St John the Baptist Day Celebration! \nLocation: Société francophone de Maillardville\, 938 Brunette Avenue #200\, Coquitlam \nYou can register by filling in the form below. \nPlease enable JavaScript in your browser to complete this form.Name *FirstLastEmail *Numéro de téléphone / Phone number Nombre d'adultes /  Number of adults *Créneau horaire / Time of attendance *Envoyer
URL:https://maillardville.com/event/5-a-7-franco/
LOCATION:Société francophone de Maillardville\, 938 Brunette Avenue\, Suite 200\, Coquitlam\, British Columbia\, V3K 1C9
ATTACH;FMTTYPE=image/png:https://maillardville.com/wp-content/uploads/2024/03/5-a-7-franco-St-jean-baptiste.png
END:VEVENT
BEGIN:VEVENT
DTSTART;TZID=America/Vancouver:20250627T103000
DTEND;TZID=America/Vancouver:20250627T120000
DTSTAMP:20260424T050802
CREATED:20250409T201534Z
LAST-MODIFIED:20250616T220038Z
UID:6378-1751020200-1751025600@maillardville.com
SUMMARY:Petits Matins Meetings
DESCRIPTION:Société francophone de Maillardville is proud and delighted to partner with the Fédération des Parents Francophones de C.-B to launch this new activity. These free “Petits Matins” meetings are dedicated to parents and their little ones (aged 0-5). \nOn the agenda: Stories\, nursery rhymes and games for children while parents will have the opportunity to learn about resources for families and early childhood as well as participate in discussions with other parents. \nDates (Every 2nd and last Friday of the month) as follows: \n\nFriday\, April 25 from 10:30 AM – 12 PM\nFriday\, May 9 from 10:30 AM – 12 PM\nFriday\, May 30 from 10:30 AM – 12 PM\nFriday\, June 13 from 10:30 AM – 12 PM\nFriday\, June 27 from 10:30 AM – 12 PM\n\nLocation: École des Pionniers-de-Maillardville\, 1618 Patricia Ave\, Port Coquitlam\, BC V3B 4A8 \nIf you wish to register\, you can fill in the form below: \nPlease enable JavaScript in your browser to complete this form.Nom du Parent / Parent's Name *FirstLastAddresse courriel / Email *Numéro de téléphone / Phone number Nombre d'adultes /  Number of adults *Nombre d'enfants (0-5 ans) /  Number of children (0-5 years) *Rencontres auxquelles vous souhaitez participer / Meetings you wish to attend25 avril / April 25 (10:30 AM - 12 PM)9 mai / May 9 (10:30 AM - 12 PM)30 mai / May 30 (10:30 AM - 12 PM)13 juin / June 13 (10:30 AM - 12 PM)27 juin / June 27 (10:30 AM - 12 PM)Envoyer  \n  \n 
URL:https://maillardville.com/event/petits-matins-meetings/
LOCATION:British Columbia
ATTACH;FMTTYPE=image/png:https://maillardville.com/wp-content/uploads/2025/04/Updated-affiche-with-logos-.png
END:VEVENT
END:VCALENDAR