BEGIN:VCALENDAR
VERSION:2.0
PRODID:-//Société Francophone de Maillardville - ECPv6.15.11//NONSGML v1.0//EN
CALSCALE:GREGORIAN
METHOD:PUBLISH
X-ORIGINAL-URL:https://maillardville.com
X-WR-CALDESC:Events for Société Francophone de Maillardville
REFRESH-INTERVAL;VALUE=DURATION:PT1H
X-Robots-Tag:noindex
X-PUBLISHED-TTL:PT1H
BEGIN:VTIMEZONE
TZID:America/Vancouver
BEGIN:DAYLIGHT
TZOFFSETFROM:-0800
TZOFFSETTO:-0700
TZNAME:PDT
DTSTART:20240310T100000
END:DAYLIGHT
BEGIN:STANDARD
TZOFFSETFROM:-0700
TZOFFSETTO:-0800
TZNAME:PST
DTSTART:20241103T090000
END:STANDARD
BEGIN:DAYLIGHT
TZOFFSETFROM:-0800
TZOFFSETTO:-0700
TZNAME:PDT
DTSTART:20250309T100000
END:DAYLIGHT
BEGIN:STANDARD
TZOFFSETFROM:-0700
TZOFFSETTO:-0800
TZNAME:PST
DTSTART:20251102T090000
END:STANDARD
BEGIN:DAYLIGHT
TZOFFSETFROM:-0800
TZOFFSETTO:-0700
TZNAME:PDT
DTSTART:20260308T100000
END:DAYLIGHT
BEGIN:STANDARD
TZOFFSETFROM:-0700
TZOFFSETTO:-0800
TZNAME:PST
DTSTART:20261101T090000
END:STANDARD
END:VTIMEZONE
BEGIN:VEVENT
DTSTART;TZID=America/Vancouver:20251017T170000
DTEND;TZID=America/Vancouver:20251017T190000
DTSTAMP:20260422T030302
CREATED:20251001T005624Z
LAST-MODIFIED:20251006T045600Z
UID:6852-1760720400-1760727600@maillardville.com
SUMMARY:Franco 5 - 7 - October
DESCRIPTION:Join us for friendly exchanges between Francophones and Francophiles every 3rd Friday of the month. \nOn the menu: moments of pleasure\, a glass of wine and small bites. \nNext meeting: Friday\, October 17th \, 5:00 PM to 7:00 PM \nLocation: Société francophone de Maillardville\, 938 Brunette Avenue #200\, Coquitlam \nYou can register by filling in the form below. \nPlease enable JavaScript in your browser to complete this form.Name *FirstLastEmail *Numéro de téléphone / Phone number Nombre de Participants  *Envoyer
URL:https://maillardville.com/event/franco-5-7-october/
LOCATION:Société francophone de Maillardville\, 938 Brunette Avenue\, Suite 200\, Coquitlam\, British Columbia\, V3K 1C9
ATTACH;FMTTYPE=image/jpeg:https://maillardville.com/wp-content/uploads/2025/09/5-7_franco_oct-lr.jpg
END:VEVENT
BEGIN:VEVENT
DTSTART;TZID=America/Vancouver:20251022T103000
DTEND;TZID=America/Vancouver:20251022T120000
DTSTAMP:20260422T030302
CREATED:20251006T043430Z
LAST-MODIFIED:20251006T044520Z
UID:6885-1761129000-1761134400@maillardville.com
SUMMARY:Little Mornings are Back!
DESCRIPTION:Little Mornings are Back! \nThe Société francophone de Maillardville invites parents and their little ones (ages 0 to 5) to join us for a fun and friendly morning filled with games\, laughter\, and connection. \n📅 Wednesday\, October 22\n📍 938 Brunette Avenue\, Unit 200\, Coquitlam\n🕥 From 10:30 a.m. to noon \nWe’ll have a special guest joining us — Chase from Paw Patrol! 🐾\nCome meet other parents\, share a joyful morning\, and have a great time together. \n💛 We can’t wait to see you! \n👉 RSVP here: Please enable JavaScript in your browser to complete this form.Name *FirstLastEmail *Numéro de téléphone / Phone number Nombre de Participants  *Envoyer
URL:https://maillardville.com/event/les-petits-matins-sont-de-retour/
LOCATION:Société francophone de Maillardville\, 938 Brunette Avenue\, Suite 200\, Coquitlam\, British Columbia\, V3K 1C9
ATTACH;FMTTYPE=image/png:https://maillardville.com/wp-content/uploads/2025/10/les-petits-martins-en-scaled.png
END:VEVENT
BEGIN:VEVENT
DTSTART;TZID=America/Vancouver:20251024T180000
DTEND;TZID=America/Vancouver:20251024T210000
DTSTAMP:20260422T030302
CREATED:20251008T055033Z
LAST-MODIFIED:20251011T154335Z
UID:6929-1761328800-1761339600@maillardville.com
SUMMARY:Family Halloween Event
DESCRIPTION:👻 Family Halloween Event \nDance • Arts and Crafts • Makeup • Photo Booth \nThe Parent Association (APÉ) of École des Pionniers-de-Maillardville\nand the Société francophone de Maillardville\ninvite you to a Halloween dance party\nfor families of elementary school students\,\nfrom 6:00 p.m. to 9:00 p.m. on Friday\, October 24. \n🎭 Come in costume! 🎃\nFree event — limited space available.\nRSVP : Maillardville.com (https://maillardville.com) \n📍 938 Brunette Avenue\, Unit 200\, Coquitlam \n👉 RSVP here: Please enable JavaScript in your browser to complete this form.Name *FirstLastEmail *Numéro de téléphone / Phone number Nombre d'adulte(s) / Nomber of adult(s) *Nombre d'enfant(s) / Nomber of child(ren) *Envoyer
URL:https://maillardville.com/event/evenement-familial-dhalloween/
LOCATION:Société francophone de Maillardville\, 938 Brunette Avenue\, Suite 200\, Coquitlam\, British Columbia\, V3K 1C9
ATTACH;FMTTYPE=image/jpeg:https://maillardville.com/wp-content/uploads/2025/10/halloween_en-1.jpg
END:VEVENT
END:VCALENDAR