BEGIN:VCALENDAR
VERSION:2.0
PRODID:-//Société Francophone de Maillardville - ECPv6.15.11//NONSGML v1.0//EN
CALSCALE:GREGORIAN
METHOD:PUBLISH
X-ORIGINAL-URL:https://maillardville.com
X-WR-CALDESC:Events for Société Francophone de Maillardville
REFRESH-INTERVAL;VALUE=DURATION:PT1H
X-Robots-Tag:noindex
X-PUBLISHED-TTL:PT1H
BEGIN:VTIMEZONE
TZID:America/Vancouver
BEGIN:DAYLIGHT
TZOFFSETFROM:-0800
TZOFFSETTO:-0700
TZNAME:PDT
DTSTART:20240310T100000
END:DAYLIGHT
BEGIN:STANDARD
TZOFFSETFROM:-0700
TZOFFSETTO:-0800
TZNAME:PST
DTSTART:20241103T090000
END:STANDARD
BEGIN:DAYLIGHT
TZOFFSETFROM:-0800
TZOFFSETTO:-0700
TZNAME:PDT
DTSTART:20250309T100000
END:DAYLIGHT
BEGIN:STANDARD
TZOFFSETFROM:-0700
TZOFFSETTO:-0800
TZNAME:PST
DTSTART:20251102T090000
END:STANDARD
BEGIN:DAYLIGHT
TZOFFSETFROM:-0800
TZOFFSETTO:-0700
TZNAME:PDT
DTSTART:20260308T100000
END:DAYLIGHT
BEGIN:STANDARD
TZOFFSETFROM:-0700
TZOFFSETTO:-0800
TZNAME:PST
DTSTART:20261101T090000
END:STANDARD
END:VTIMEZONE
BEGIN:VEVENT
DTSTART;TZID=America/Vancouver:20251210T103000
DTEND;TZID=America/Vancouver:20251210T120000
DTSTAMP:20260420T141820
CREATED:20251102T080727Z
LAST-MODIFIED:20251124T230556Z
UID:7234-1765362600-1765368000@maillardville.com
SUMMARY:Les petits matin December 10
DESCRIPTION:Les petits matins are back! \nJoin us for a fun and educational morning of family activities! \nFor families with children aged 0 to 5. \nDate: December 10th\nTime: 10:30 a.m. to 12:00 p.m. \nCome share a moment of fun\, discovery\, and laughter with other Francophone families in a friendly atmosphere. \nLocation: Société francophone de Maillardville\n938 Brunette Avenue\, Suite 200\, Coquitlam \nRSVP HERE for December 10th: \nPlease enable JavaScript in your browser to complete this form.#1 - Nom du parent / Parent Name *FirstLast#2 - Nom du parent / Parent Name  *FirstLast#1 -Nom de l'enfant & age /  Child Name & age#2 - Nom de l'enfant & age / Child Name & ageVille de résidence / City of Residence *Courriel / Email *PhoneEnfants additionnels / Informations générales - Additional Child / General InformationEnvoyer   \nWe can’t wait to see you!
URL:https://maillardville.com/event/les-petits-matin-december-10th/
LOCATION:Société francophone de Maillardville\, 938 Brunette Avenue\, Suite 200\, Coquitlam\, British Columbia\, V3K 1C9
ATTACH;FMTTYPE=image/png:https://maillardville.com/wp-content/uploads/2025/11/1-1.png
END:VEVENT
BEGIN:VEVENT
DTSTART;TZID=America/Vancouver:20251214T130000
DTEND;TZID=America/Vancouver:20251214T160000
DTSTAMP:20260420T141820
CREATED:20251124T211705Z
LAST-MODIFIED:20251126T180639Z
UID:7531-1765717200-1765728000@maillardville.com
SUMMARY:Holiday Celebrations✨
DESCRIPTION:The Société francophone de Maillardville invites you to celebrate the holiday season with us. \nJoin us for a warm and friendly gathering where families\, neighbors\, and francophone community members can meet\, connect\, and enjoy a joyful afternoon together. Santa Claus will be there to meet the children\, take lovely family photos\, and share a warm moment with everyone. \nFun activities will also be available for kids. It’s a wonderful opportunity to connect\, gather\, and celebrate as a community. \n Sunday\, December 14\, from 1 PM to 4 PM\n 938 Brunette Avenue\, Coquitlam\, Unit 200 \n RSVP Here: Please enable JavaScript in your browser to complete this form.Name *FirstLastEmail *Numéro de téléphone / Phone number Nombre d'adultes /  Number of adultsNombre d'enfants / Number of childrenEnvoyer
URL:https://maillardville.com/event/christmas-party%f0%9f%8e%84%e2%9c%a8/
LOCATION:Société francophone de Maillardville\, 938 Brunette Avenue\, Suite 200\, Coquitlam\, British Columbia\, V3K 1C9
ATTACH;FMTTYPE=image/jpeg:https://maillardville.com/wp-content/uploads/2025/11/59b7fe50-419c-441e-9f42-d5ad3ed57d76.jpeg
END:VEVENT
BEGIN:VEVENT
DTSTART;TZID=America/Vancouver:20251220T150000
DTEND;TZID=America/Vancouver:20251220T170000
DTSTAMP:20260420T141820
CREATED:20251210T234450Z
LAST-MODIFIED:20251211T043638Z
UID:7818-1766242800-1766250000@maillardville.com
SUMMARY:Craft Workshop
DESCRIPTION:The Parent Association Committee from L’École des Pionniers de Maillardville and the Société francophone de Maillardville invite you to a festive afternoon of crafting on Saturday\, December 20\, from 3 to 5 p.m.\n\nEnjoy a variety of creative activities for the whole family. \n\nJoin us for a creative and festive moment together.\n\nTo register\, Please enable JavaScript in your browser to complete this form.Name / Nom *FirstLastEmail *Numéro de téléphone / Phone number Nombre d'adulte(s) / Number of adult(s) *Nombre d'enfant(s) / Number of child(ren) *Envoyer   or visit maillardville.com.\nWe look forward to seeing you.\n\nThe SFM and PAC teams
URL:https://maillardville.com/event/craft-workshop/
LOCATION:BC
ATTACH;FMTTYPE=image/jpeg:https://maillardville.com/wp-content/uploads/2025/12/Untitled-design.jpg
END:VEVENT
BEGIN:VEVENT
DTSTART;TZID=America/Vancouver:20251221T130000
DTEND;TZID=America/Vancouver:20251221T150000
DTSTAMP:20260420T141820
CREATED:20251001T011039Z
LAST-MODIFIED:20251102T085108Z
UID:6854-1766322000-1766329200@maillardville.com
SUMMARY:HIGH TEA EVENT FOR 50+
DESCRIPTION:TEA EVENT / THÉ DE L’AMITIÉ POUR LES 50+ \nThe Société francophone de Maillardville invites you to a friendly Christmas themed High Tea Event. \n  \n🫖 Date: Sunday\, December  21st\, 2025 \n📍 Location: Société francophone de Maillardville \n938 Brunette Avenue\, Unit 200\, Coquitlam \n🕐 Time: 1:00 p.m. to 3:00 p.m. \n☕ Limited to 15 participants. Reserve your spot quickly. \n  \nJoin us for an afternoon of joy\, friendship\, and celebration. \nWe look forward to celebrating the International Day of Older Persons with you. \n👉 Please register here: Please enable JavaScript in your browser to complete this form.Name *FirstLastEmail *Numéro de téléphone / Phone number Nombre de Participants  *Envoyer
URL:https://maillardville.com/event/christmas-tea/
LOCATION:Société francophone de Maillardville\, 938 Brunette Avenue\, Suite 200\, Coquitlam\, British Columbia\, V3K 1C9
ATTACH;FMTTYPE=image/png:https://maillardville.com/wp-content/uploads/2025/10/Untitled-design-2.png
END:VEVENT
END:VCALENDAR