BEGIN:VCALENDAR
VERSION:2.0
PRODID:-//Société Francophone de Maillardville - ECPv6.15.11//NONSGML v1.0//EN
CALSCALE:GREGORIAN
METHOD:PUBLISH
X-WR-CALNAME:Société Francophone de Maillardville
X-ORIGINAL-URL:https://maillardville.com/?lang=fr
X-WR-CALDESC:Évènements pour Société Francophone de Maillardville
REFRESH-INTERVAL;VALUE=DURATION:PT1H
X-Robots-Tag:noindex
X-PUBLISHED-TTL:PT1H
BEGIN:VTIMEZONE
TZID:America/Vancouver
BEGIN:DAYLIGHT
TZOFFSETFROM:-0800
TZOFFSETTO:-0700
TZNAME:PDT
DTSTART:20240310T100000
END:DAYLIGHT
BEGIN:STANDARD
TZOFFSETFROM:-0700
TZOFFSETTO:-0800
TZNAME:PST
DTSTART:20241103T090000
END:STANDARD
BEGIN:DAYLIGHT
TZOFFSETFROM:-0800
TZOFFSETTO:-0700
TZNAME:PDT
DTSTART:20250309T100000
END:DAYLIGHT
BEGIN:STANDARD
TZOFFSETFROM:-0700
TZOFFSETTO:-0800
TZNAME:PST
DTSTART:20251102T090000
END:STANDARD
BEGIN:DAYLIGHT
TZOFFSETFROM:-0800
TZOFFSETTO:-0700
TZNAME:PDT
DTSTART:20260308T100000
END:DAYLIGHT
BEGIN:STANDARD
TZOFFSETFROM:-0700
TZOFFSETTO:-0800
TZNAME:PST
DTSTART:20261101T090000
END:STANDARD
END:VTIMEZONE
BEGIN:VEVENT
DTSTART;TZID=America/Vancouver:20251025T080000
DTEND;TZID=America/Vancouver:20251225T170000
DTSTAMP:20260420T142212
CREATED:20251010T214805Z
LAST-MODIFIED:20251010T215520Z
UID:6976-1761379200-1766682000@maillardville.com
SUMMARY:Podcast #38
DESCRIPTION:  \nDo you know everything happening at the Société francophone de Maillardville in October 2025 ? \nDive into a new episode of Allô Maillardville\, your community podcast hosted by Geneviève Kyle-Lefebvre and her team of contributors\, in collaboration with Web Ouest. \n⸻ \n📅 Here are the key dates to remember for upcoming activities at the Société francophone de Maillardville: \n• the Friendship Tea for Seniors on October 16 ; \n• the Franco 5-à-7 on Friday\, October 17 — a friendly networking evening\, the perfect opportunity to meet friends\, connect\, and grow your community circle ; \n• Les Petits Matins on Wednesday\, October 22\, from 10 a.m. to noon\, an activity for children aged 0 to 5 and their moms\, organized in collaboration with the Fédération des parents francophones de la Colombie-Britannique ; \n• and the Self-Defense Workshop for Réseau Femmes members on Saturday\, October 25 at 3:30 p.m.\, at the Centre de la Société francophone de Maillardville. \n🗣️ French classes have also started! \nIt’s not too late to join — come learn and practice French in a warm\, friendly environment. \n⸻ \n🎙️ This month’s segments \n• Science Segment : our Prof Aqua\, Éric Tremblay\, explores the fascinating world of optical effects. \n• Historical Chronicle : Johanne Dumas takes us through the stories of Maillardville’s historical figures. \n• Culinary Chronicle : Benoît Brisson shares his love of Thai cuisine. \n• Wellness Segment : Kasra Tariri discusses mental well-being practices. \n• Cultural Chronicle : Alexandre Fraybin shares his October cultural favourites. \n⸻ \n💬 Closing Note \nThank you to all our listeners for tuning in! \nAllô Maillardville is produced by the Société francophone de Maillardville\, in collaboration with Web Ouest\, and created with the participation of the full team of contributors. \nSpecial thanks to Kasra Tariri for composing the musical interludes. \nListen again\, get involved\, or discover everything happening at the Société by visiting 👉 maillardville.com \nSee you in November for the next episode of Allô Maillardville! \nMerci de nous écouter / Thank you for listening! \nL’équipe de La Société Francophone de Maillardville ♡ \nListen now by clicking here.
URL:https://maillardville.com/event/podcast-38/?lang=fr
LOCATION:BC
ATTACH;FMTTYPE=image/jpeg:https://maillardville.com/wp-content/uploads/2025/10/83f635f2-b0ce-45bb-bdab-273998fb155f-copy-2.jpg
END:VEVENT
BEGIN:VEVENT
DTSTART;TZID=America/Vancouver:20251221T130000
DTEND;TZID=America/Vancouver:20251221T150000
DTSTAMP:20260420T142212
CREATED:20251001T011234Z
LAST-MODIFIED:20251125T174047Z
UID:6857-1766322000-1766329200@maillardville.com
SUMMARY:THÉ DE L’AMITIÉ POUR LES 50+
DESCRIPTION:THÉ DE L’AMITIÉ  / HIGH TEA EVENT  50+ \nÀ l’occasion de la Journée internationale des aînés\, la Société francophone de Maillardville vous invite à un thé de l’amitié convivial et chaleureux. \n  \n🫖 Date : Dimanche 21 décembre 2025 \n📍 Lieu : Société francophone de Maillardville \n938 Brunette Avenue\, Unité 200\, Coquitlam \n🕐 Heure : de 13 h à 15 h \n☕ Places limitées à 15 participants. Réservez vite. \n  \nInscrivez-vous dès maintenant pour partager un après-midi de détente\, d’amitié et de célébration. \nNous avons bien hâte de célébrer la Journée internationale des aînés avec vous. \n👉 Veuillez vous inscrire ici :  Veuillez activer JavaScript dans votre navigateur pour remplir ce formulaire.Name *PrénomNomEmail *Numéro de téléphone / Phone number Nombre de Participants  *Envoyer
URL:https://maillardville.com/event/the-de-lamitie-pour-les-aines/?lang=fr
LOCATION:Société francophone de Maillardville\, 938 Brunette Avenue\, Suite 200\, Coquitlam\, British Columbia\, V3K 1C9
ATTACH;FMTTYPE=image/png:https://maillardville.com/wp-content/uploads/2025/10/Untitled-design-1.png
END:VEVENT
END:VCALENDAR