BEGIN:VCALENDAR
VERSION:2.0
PRODID:-//Société Francophone de Maillardville - ECPv6.15.11//NONSGML v1.0//EN
CALSCALE:GREGORIAN
METHOD:PUBLISH
X-ORIGINAL-URL:https://maillardville.com/?lang=fr
X-WR-CALDESC:Évènements pour Société Francophone de Maillardville
REFRESH-INTERVAL;VALUE=DURATION:PT1H
X-Robots-Tag:noindex
X-PUBLISHED-TTL:PT1H
BEGIN:VTIMEZONE
TZID:America/Vancouver
BEGIN:DAYLIGHT
TZOFFSETFROM:-0800
TZOFFSETTO:-0700
TZNAME:PDT
DTSTART:20250309T100000
END:DAYLIGHT
BEGIN:STANDARD
TZOFFSETFROM:-0700
TZOFFSETTO:-0800
TZNAME:PST
DTSTART:20251102T090000
END:STANDARD
BEGIN:DAYLIGHT
TZOFFSETFROM:-0800
TZOFFSETTO:-0700
TZNAME:PDT
DTSTART:20260308T100000
END:DAYLIGHT
BEGIN:STANDARD
TZOFFSETFROM:-0700
TZOFFSETTO:-0800
TZNAME:PST
DTSTART:20261101T090000
END:STANDARD
BEGIN:DAYLIGHT
TZOFFSETFROM:-0800
TZOFFSETTO:-0700
TZNAME:PDT
DTSTART:20270314T100000
END:DAYLIGHT
BEGIN:STANDARD
TZOFFSETFROM:-0700
TZOFFSETTO:-0800
TZNAME:PST
DTSTART:20271107T090000
END:STANDARD
END:VTIMEZONE
BEGIN:VEVENT
DTSTART;TZID=America/Vancouver:20260215T140000
DTEND;TZID=America/Vancouver:20260215T160000
DTSTAMP:20260420T110911
CREATED:20260110T202851Z
LAST-MODIFIED:20260111T015719Z
UID:7923-1771164000-1771171200@maillardville.com
SUMMARY:Thé de la Saint-Valentin pour le 50 ANS +
DESCRIPTION:
URL:https://maillardville.com/event/https-maillardville-com-the-de-la-saint-valentin-pour-les-50-ans-langfr/?lang=fr
LOCATION:Société francophone de Maillardville\, 938 Brunette Avenue\, Suite 200\, Coquitlam\, British Columbia\, V3K 1C9
ATTACH;FMTTYPE=image/png:https://maillardville.com/wp-content/uploads/2026/01/Untitled-design-1.png
END:VEVENT
END:VCALENDAR